BEGIN:VCALENDAR
PRODID:-//Microsoft Corporation//Outlook 16.0 MIMEDIR//EN
VERSION:2.0
METHOD:PUBLISH
X-MS-OLK-FORCEINSPECTOROPEN:TRUE
BEGIN:VEVENT
CLASS:PUBLIC
CREATED:20211124T175403Z
DESCRIPTION:We can and must advance long-overdue action on climate and make
	 our air cleaner\, our communities healthier and our future safer. Our suc
	cess depends on what we do now.\n\nFor 24 hours this Giving Tuesday\, our 
	regular $2-for-$1 match offer will be boosted to a $3-for-$1 match on all 
	gifts\, maximizing thousands of EDF members' impact.\n\nClick here on Givi
	ng Tuesday to maximize YOUR impact: https://www.edf.org/Z2yS \n
DTEND;VALUE=DATE:20211201
DTSTAMP:20211124T175000Z
DTSTART;VALUE=DATE:20211130
LAST-MODIFIED:20211124T175403Z
LOCATION:Wherever you are!
PRIORITY:5
SEQUENCE:0
SUMMARY;LANGUAGE=en-us:Giving Tuesday bonus match for the environment
TRANSP:TRANSPARENT
UID:040000008200E00074C5B7101A82E008000000006010D85B32E1D701000000000000000
	0100000007C9102A2A2DAB041AB50614B2AF321DB
X-ALT-DESC;FMTTYPE=text/html:<!DOCTYPE HTML PUBLIC "-//W3C//DTD HTML 3.2//E
	N">\n<HTML>\n<HEAD>\n<META NAME="Generator" CONTENT="MS Exchange Server ve
	rsion rmj.rmm.rup.rpr">\n<TITLE></TITLE>\n</HEAD>\n<BODY>\n<!-- Converted 
	from text/plain format -->\n\n<P><FONT SIZE=2>We can and must advance long
	-overdue action on climate and make our air cleaner\, our communities heal
	thier and our future safer. Our success depends on what we do now.</FONT><
	/P>\n\n<P><FONT SIZE=2>For 24 hours this Giving Tuesday\, our regular $2-f
	or-$1 match offer will be boosted to a $3-for-$1 match on all gifts\, maxi
	mizing thousands of EDF members' impact.</FONT></P>\n\n<P><FONT SIZE=2>Cli
	ck here on Giving Tuesday to maximize YOUR impact: <A HREF="https://www.ed
	f.org/Z2yS">https://www.edf.org/Z2yS</A> </FONT>\n</P>\n\n</BODY>\n</HTML>
X-MICROSOFT-CDO-BUSYSTATUS:FREE
X-MICROSOFT-CDO-IMPORTANCE:1
END:VEVENT
END:VCALENDAR
